BEGIN:VCALENDAR
VERSION:2.0
PRODID:-//Mastroserio Winery - ECPv6.15.20//NONSGML v1.0//EN
CALSCALE:GREGORIAN
METHOD:PUBLISH
X-ORIGINAL-URL:https://mastroseriowinery.com
X-WR-CALDESC:Events for Mastroserio Winery
REFRESH-INTERVAL;VALUE=DURATION:PT1H
X-Robots-Tag:noindex
X-PUBLISHED-TTL:PT1H
BEGIN:VTIMEZONE
TZID:America/Los_Angeles
BEGIN:DAYLIGHT
TZOFFSETFROM:-0800
TZOFFSETTO:-0700
TZNAME:PDT
DTSTART:20170312T100000
END:DAYLIGHT
BEGIN:STANDARD
TZOFFSETFROM:-0700
TZOFFSETTO:-0800
TZNAME:PST
DTSTART:20171105T090000
END:STANDARD
BEGIN:DAYLIGHT
TZOFFSETFROM:-0800
TZOFFSETTO:-0700
TZNAME:PDT
DTSTART:20180311T100000
END:DAYLIGHT
BEGIN:STANDARD
TZOFFSETFROM:-0700
TZOFFSETTO:-0800
TZNAME:PST
DTSTART:20181104T090000
END:STANDARD
BEGIN:DAYLIGHT
TZOFFSETFROM:-0800
TZOFFSETTO:-0700
TZNAME:PDT
DTSTART:20190310T100000
END:DAYLIGHT
BEGIN:STANDARD
TZOFFSETFROM:-0700
TZOFFSETTO:-0800
TZNAME:PST
DTSTART:20191103T090000
END:STANDARD
END:VTIMEZONE
BEGIN:VEVENT
DTSTART;TZID=America/Los_Angeles:20180701T130000
DTEND;TZID=America/Los_Angeles:20180701T160000
DTSTAMP:20260422T032614
CREATED:20180628T201420Z
LAST-MODIFIED:20180628T201425Z
UID:1235-1530450000-1530460800@mastroseriowinery.com
SUMMARY:Ruggero's Birthday - Jazz Jam Session with John Cocuzzi
DESCRIPTION:All of you are invited to join Ruggero for his Birthday. All friends musicians will gather together for a birthday jam.\nWe will also celebrate our amazing Wine Club Members who are the heart and soul of Mastroserio Winery. \nWe will be releasing: \n-2017 Falanghina (white Italian grape from Southern Italy)\n-2014 Special Reserve Dolcetto (only Club Members) \nHamburgers\, Hotdogs\, Crostata di Frutta (Birthday Cake) and Music for a fun day to spend together. \nComplimentary Wine Club\n$15 General Admission
URL:https://mastroseriowinery.com/event/ruggeros-birthday-jazz-jam-session-with-john-cocuzzi/
LOCATION:CA
ATTACH;FMTTYPE=image/jpeg:https://mastroseriowinery.com/wp-content/uploads/2018/06/35745588_1684723508271434_4041457886440718336_n.jpg
END:VEVENT
BEGIN:VEVENT
DTSTART;TZID=America/Los_Angeles:20180713T180000
DTEND;TZID=America/Los_Angeles:20180713T210000
DTSTAMP:20260422T032614
CREATED:20180713T001143Z
LAST-MODIFIED:20180713T001143Z
UID:1239-1531504800-1531515600@mastroseriowinery.com
SUMMARY:July 13 Friday Night Jazz and Pizza with Jimmy Spero
DESCRIPTION:Come join us for Jazz and pizza! We are ready to fire our pizza oven this Fri. with true Italian hospitality!
URL:https://mastroseriowinery.com/event/july-13-friday-night-jazz-and-pizza-with-jimmy-spero/
LOCATION:Mastroserio Winery Fairplay\, 7351 Fairplay Rd.\, Somerset\, CA\, 95684\, United States
ORGANIZER;CN="Julie":MAILTO:info@mastroseriowinery.com
END:VEVENT
BEGIN:VEVENT
DTSTART;TZID=America/Los_Angeles:20180715T130000
DTEND;TZID=America/Los_Angeles:20180715T160000
DTSTAMP:20260422T032614
CREATED:20180713T002154Z
LAST-MODIFIED:20180713T002154Z
UID:1243-1531659600-1531670400@mastroseriowinery.com
SUMMARY:Country Sunday with Shauna Lea and Gary Blodgett
DESCRIPTION:If you enjoy Country and Classic Rock you will fall in love with the\nterrific voice of Shauna Lea accompanied by virtuoso guitarist Gary Blodgett!\nPlease call and reserve your spot. We will see you here!
URL:https://mastroseriowinery.com/event/country-sunday-with-shauna-lea-and-gary-blodgett/
LOCATION:CA
ORGANIZER;CN="Julie":MAILTO:info@mastroseriowinery.com
END:VEVENT
BEGIN:VEVENT
DTSTART;TZID=America/Los_Angeles:20180721T180000
DTEND;TZID=America/Los_Angeles:20180721T210000
DTSTAMP:20260422T032614
CREATED:20180717T191417Z
LAST-MODIFIED:20180717T191417Z
UID:1247-1532196000-1532206800@mastroseriowinery.com
SUMMARY:Saturday Night Jazz featuring The Jeff Alkire Trio & Folsom's new Super Sax Group
DESCRIPTION:Jeff played in the Ray Charles Band for ten years. He is a composer and teacher.\nJoining him this Saturday:\nJack Stanfield on drums\, Nick Augusta on piano and Jeff on Alto Sax. We are delighted\nto also host Folsom’s new “Super Sax Group”! Come join us in Fairplay for our authentic Italian\nHospitality and wood fired pizza.  \nMUSIC:\nWine Club $10\nGeneral $15 \nWood Fired Pizza: $15\nA RSVP is required by calling Julie at 530-417-4321
URL:https://mastroseriowinery.com/event/saturday-night-jazz-featuring-the-jeff-alkire-trio-folsoms-new-super-sax-group/
LOCATION:Mastroserio Winery Fairplay\, 7351 Fairplay Rd.\, Somerset\, CA\, 95684\, United States
ORGANIZER;CN="Julie":MAILTO:info@mastroseriowinery.com
END:VEVENT
BEGIN:VEVENT
DTSTART;TZID=America/Los_Angeles:20180727T180000
DTEND;TZID=America/Los_Angeles:20180727T210000
DTSTAMP:20260422T032614
CREATED:20180723T185426Z
LAST-MODIFIED:20180723T185426Z
UID:1254-1532714400-1532725200@mastroseriowinery.com
SUMMARY:An Evening with Jimmy Spero
DESCRIPTION:Jimmy will serenade you with his beautiful acoustic guitar playing under our\nBlack Oak Tree. Come join us for Our Premium Wines\, wood fired pizza\, a bit\nJazz and our true Italian Hospitality.  \nClub Members: $15 per person (2 People) for music and pizza\nGeneral Admission: $20 per person for music and pizza \nPlease RSVP: Julie 530-417-4321 \nWe look forward to seeing you!!!
URL:https://mastroseriowinery.com/event/an-evening-with-jimmy-spero/
LOCATION:CA
ORGANIZER;CN="Julie":MAILTO:info@mastroseriowinery.com
END:VEVENT
BEGIN:VEVENT
DTSTART;TZID=America/Los_Angeles:20180728T120000
DTEND;TZID=America/Los_Angeles:20180728T160000
DTSTAMP:20260422T032614
CREATED:20180718T010607Z
LAST-MODIFIED:20180718T010607Z
UID:1249-1532779200-1532793600@mastroseriowinery.com
SUMMARY:Celebrate Summer in the Vineyard with Ruggero and Chef Giovanni!
DESCRIPTION:Ruggero and Chef Giovanni are teaming up again to celebrate street foods of Italy.\nCome join us for Italian finger foods paired with Ruggero’s fabulous wines and true\nItalian Hospitality. We look forward to meeting you under the big oak tree in Fairplay for a lazy\nafternoon of sharing! \nRSVP required: To Giovanni at 530-391-6980 \nCost: $25 per person\n(includes 3 Italian street foods paired beautiful with Italian varietals\nand how about a bit of Saxophone!)
URL:https://mastroseriowinery.com/event/celebrate-summer-in-the-vineyard-with-ruggero-and-chef-giovanni/
LOCATION:Mastroserio Winery Fairplay\, 7351 Fairplay Rd.\, Somerset\, CA\, 95684\, United States
ORGANIZER;CN="Julie":MAILTO:info@mastroseriowinery.com
END:VEVENT
END:VCALENDAR