BEGIN:VCALENDAR
VERSION:2.0
PRODID:-//Mastroserio Winery - ECPv6.15.20//NONSGML v1.0//EN
CALSCALE:GREGORIAN
METHOD:PUBLISH
X-ORIGINAL-URL:https://mastroseriowinery.com
X-WR-CALDESC:Events for Mastroserio Winery
REFRESH-INTERVAL;VALUE=DURATION:PT1H
X-Robots-Tag:noindex
X-PUBLISHED-TTL:PT1H
BEGIN:VTIMEZONE
TZID:America/Los_Angeles
BEGIN:DAYLIGHT
TZOFFSETFROM:-0800
TZOFFSETTO:-0700
TZNAME:PDT
DTSTART:20180311T100000
END:DAYLIGHT
BEGIN:STANDARD
TZOFFSETFROM:-0700
TZOFFSETTO:-0800
TZNAME:PST
DTSTART:20181104T090000
END:STANDARD
BEGIN:DAYLIGHT
TZOFFSETFROM:-0800
TZOFFSETTO:-0700
TZNAME:PDT
DTSTART:20190310T100000
END:DAYLIGHT
BEGIN:STANDARD
TZOFFSETFROM:-0700
TZOFFSETTO:-0800
TZNAME:PST
DTSTART:20191103T090000
END:STANDARD
BEGIN:DAYLIGHT
TZOFFSETFROM:-0800
TZOFFSETTO:-0700
TZNAME:PDT
DTSTART:20200308T100000
END:DAYLIGHT
BEGIN:STANDARD
TZOFFSETFROM:-0700
TZOFFSETTO:-0800
TZNAME:PST
DTSTART:20201101T090000
END:STANDARD
END:VTIMEZONE
BEGIN:VEVENT
DTSTART;TZID=America/Los_Angeles:20190427T173000
DTEND;TZID=America/Los_Angeles:20190427T203000
DTSTAMP:20260422T032721
CREATED:20190210T081506Z
LAST-MODIFIED:20190210T081506Z
UID:1332-1556386200-1556397000@mastroseriowinery.com
SUMMARY:Chaz Trio
DESCRIPTION:Charles Mullinaux\, guitar/vocals\nBill Taylor\, keyboards\nMarty Montana\, bass\n$15 Wine Club Members (Food+Music) \n$25 General Admission   (Food+Music) \nRSVP:  (530) 417-4321
URL:https://mastroseriowinery.com/event/chaz-trio/
LOCATION:Mastroserio Winery Fairplay\, 7351 Fairplay Rd.\, Somerset\, CA\, 95684\, United States
ORGANIZER;CN="Ruggero Mastroserio":MAILTO:info@mastroseriowinery.com
END:VEVENT
END:VCALENDAR