BEGIN:VCALENDAR
VERSION:2.0
PRODID:-//Mastroserio Winery - ECPv6.15.20//NONSGML v1.0//EN
CALSCALE:GREGORIAN
METHOD:PUBLISH
X-WR-CALNAME:Mastroserio Winery
X-ORIGINAL-URL:https://mastroseriowinery.com
X-WR-CALDESC:Events for Mastroserio Winery
REFRESH-INTERVAL;VALUE=DURATION:PT1H
X-Robots-Tag:noindex
X-PUBLISHED-TTL:PT1H
BEGIN:VTIMEZONE
TZID:America/Los_Angeles
BEGIN:DAYLIGHT
TZOFFSETFROM:-0800
TZOFFSETTO:-0700
TZNAME:PDT
DTSTART:20170312T100000
END:DAYLIGHT
BEGIN:STANDARD
TZOFFSETFROM:-0700
TZOFFSETTO:-0800
TZNAME:PST
DTSTART:20171105T090000
END:STANDARD
BEGIN:DAYLIGHT
TZOFFSETFROM:-0800
TZOFFSETTO:-0700
TZNAME:PDT
DTSTART:20180311T100000
END:DAYLIGHT
BEGIN:STANDARD
TZOFFSETFROM:-0700
TZOFFSETTO:-0800
TZNAME:PST
DTSTART:20181104T090000
END:STANDARD
BEGIN:DAYLIGHT
TZOFFSETFROM:-0800
TZOFFSETTO:-0700
TZNAME:PDT
DTSTART:20190310T100000
END:DAYLIGHT
BEGIN:STANDARD
TZOFFSETFROM:-0700
TZOFFSETTO:-0800
TZNAME:PST
DTSTART:20191103T090000
END:STANDARD
END:VTIMEZONE
BEGIN:VEVENT
DTSTART;TZID=America/Los_Angeles:20180915T180000
DTEND;TZID=America/Los_Angeles:20180915T210000
DTSTAMP:20260422T032303
CREATED:20180913T231402Z
LAST-MODIFIED:20180913T231402Z
UID:1282-1537034400-1537045200@mastroseriowinery.com
SUMMARY:Ruggero & Martin Quintet and Wood Fired Pizza!
DESCRIPTION:Come join Ruggero and dear friends and musicians for a cool Jazz Night! \nWine Club: $15 per person for Jazz and wood fired pizza (2 people max) \nGeneral admission: $20 per person for Jazz and wood fired pizza \nWe look forward to sharing the evening with you! \n 
URL:https://mastroseriowinery.com/event/ruggero-martin-quintet-and-wood-fired-pizza/
LOCATION:Mastroserio Winery Fairplay\, 7351 Fairplay Rd.\, Somerset\, CA\, 95684\, United States
ORGANIZER;CN="Julie":MAILTO:info@mastroseriowinery.com
END:VEVENT
END:VCALENDAR