BEGIN:VCALENDAR
VERSION:2.0
PRODID:-//Mastroserio Winery - ECPv6.15.20//NONSGML v1.0//EN
CALSCALE:GREGORIAN
METHOD:PUBLISH
X-WR-CALNAME:Mastroserio Winery
X-ORIGINAL-URL:https://mastroseriowinery.com
X-WR-CALDESC:Events for Mastroserio Winery
REFRESH-INTERVAL;VALUE=DURATION:PT1H
X-Robots-Tag:noindex
X-PUBLISHED-TTL:PT1H
BEGIN:VTIMEZONE
TZID:America/Los_Angeles
BEGIN:DAYLIGHT
TZOFFSETFROM:-0800
TZOFFSETTO:-0700
TZNAME:PDT
DTSTART:20170312T100000
END:DAYLIGHT
BEGIN:STANDARD
TZOFFSETFROM:-0700
TZOFFSETTO:-0800
TZNAME:PST
DTSTART:20171105T090000
END:STANDARD
BEGIN:DAYLIGHT
TZOFFSETFROM:-0800
TZOFFSETTO:-0700
TZNAME:PDT
DTSTART:20180311T100000
END:DAYLIGHT
BEGIN:STANDARD
TZOFFSETFROM:-0700
TZOFFSETTO:-0800
TZNAME:PST
DTSTART:20181104T090000
END:STANDARD
BEGIN:DAYLIGHT
TZOFFSETFROM:-0800
TZOFFSETTO:-0700
TZNAME:PDT
DTSTART:20190310T100000
END:DAYLIGHT
BEGIN:STANDARD
TZOFFSETFROM:-0700
TZOFFSETTO:-0800
TZNAME:PST
DTSTART:20191103T090000
END:STANDARD
END:VTIMEZONE
BEGIN:VEVENT
DTSTART;TZID=America/Los_Angeles:20180819T120000
DTEND;TZID=America/Los_Angeles:20180819T160000
DTSTAMP:20260422T031548
CREATED:20180808T202709Z
LAST-MODIFIED:20180808T202709Z
UID:1279-1534680000-1534694400@mastroseriowinery.com
SUMMARY:Summer Series "Italian Street Foods" with Chef Giovanni and Ruggero Mastroserio
DESCRIPTION:Mastrosereio Winery welcomes you for our “Italian Street Foods”  series! \nJoin us for a lazy afternoon enjoying foods that you would typically find in \nthe streets of Italy.  \n$25 per person for 3 ample samples of Italian foods created by Chef Giovanni \nalong with Premium Wines created Ruggero Mastroserio. \n***Reservations Required: Please call Chef Giovanni at 530-391-6980 \nWe look forward to being with you offering true Italian Hospitality!
URL:https://mastroseriowinery.com/event/summer-series-italian-street-foods-with-chef-giovanni-and-ruggero-mastroserio/
LOCATION:Mastroserio Winery Fairplay\, 7351 Fairplay Rd.\, Somerset\, CA\, 95684\, United States
ORGANIZER;CN="Julie":MAILTO:info@mastroseriowinery.com
END:VEVENT
END:VCALENDAR