BEGIN:VCALENDAR
VERSION:2.0
PRODID:-//Mastroserio Winery - ECPv6.15.20//NONSGML v1.0//EN
CALSCALE:GREGORIAN
METHOD:PUBLISH
X-WR-CALNAME:Mastroserio Winery
X-ORIGINAL-URL:https://mastroseriowinery.com
X-WR-CALDESC:Events for Mastroserio Winery
REFRESH-INTERVAL;VALUE=DURATION:PT1H
X-Robots-Tag:noindex
X-PUBLISHED-TTL:PT1H
BEGIN:VTIMEZONE
TZID:America/Los_Angeles
BEGIN:DAYLIGHT
TZOFFSETFROM:-0800
TZOFFSETTO:-0700
TZNAME:PDT
DTSTART:20170312T100000
END:DAYLIGHT
BEGIN:STANDARD
TZOFFSETFROM:-0700
TZOFFSETTO:-0800
TZNAME:PST
DTSTART:20171105T090000
END:STANDARD
BEGIN:DAYLIGHT
TZOFFSETFROM:-0800
TZOFFSETTO:-0700
TZNAME:PDT
DTSTART:20180311T100000
END:DAYLIGHT
BEGIN:STANDARD
TZOFFSETFROM:-0700
TZOFFSETTO:-0800
TZNAME:PST
DTSTART:20181104T090000
END:STANDARD
BEGIN:DAYLIGHT
TZOFFSETFROM:-0800
TZOFFSETTO:-0700
TZNAME:PDT
DTSTART:20190310T100000
END:DAYLIGHT
BEGIN:STANDARD
TZOFFSETFROM:-0700
TZOFFSETTO:-0800
TZNAME:PST
DTSTART:20191103T090000
END:STANDARD
END:VTIMEZONE
BEGIN:VEVENT
DTSTART;TZID=America/Los_Angeles:20180818T180000
DTEND;TZID=America/Los_Angeles:20180818T210000
DTSTAMP:20260422T031516
CREATED:20180807T195819Z
LAST-MODIFIED:20180807T195819Z
UID:1269-1534615200-1534626000@mastroseriowinery.com
SUMMARY:Join us for The Beth Duncan Quartet and Ruggero's Wood Fired Pizza 6-9
DESCRIPTION:We proudly present Beth Duncan and her Quartet! Beth is an award winning Jazz Vocalist.\nJoining her will be Steve Homan (Guitar)\, Mat Robinson (Acoustic Bass) and Jim Frink (Drums).\nRuggero will be firing up his oven for more delicious wood fired pizza and jumping in with Beth\,\nplaying Tenor Sax! \nWine Club: $20 per person for pizza and music (2 people max)\nGeneral: $25 per person for pizza and music \nImportant\, RSVP: To Julie at 530-417-4321 \nJoin us for true Italian Hospitality\, we look forward to sharing an evening with you!
URL:https://mastroseriowinery.com/event/join-us-for-the-beth-duncan-quartet-and-ruggeros-wood-fired-pizza-6-9/
LOCATION:CA
ORGANIZER;CN="Julie":MAILTO:info@mastroseriowinery.com
END:VEVENT
END:VCALENDAR