BEGIN:VCALENDAR
VERSION:2.0
PRODID:-//Mastroserio Winery - ECPv6.15.20//NONSGML v1.0//EN
CALSCALE:GREGORIAN
METHOD:PUBLISH
X-WR-CALNAME:Mastroserio Winery
X-ORIGINAL-URL:https://mastroseriowinery.com
X-WR-CALDESC:Events for Mastroserio Winery
REFRESH-INTERVAL;VALUE=DURATION:PT1H
X-Robots-Tag:noindex
X-PUBLISHED-TTL:PT1H
BEGIN:VTIMEZONE
TZID:America/Los_Angeles
BEGIN:DAYLIGHT
TZOFFSETFROM:-0800
TZOFFSETTO:-0700
TZNAME:PDT
DTSTART:20170312T100000
END:DAYLIGHT
BEGIN:STANDARD
TZOFFSETFROM:-0700
TZOFFSETTO:-0800
TZNAME:PST
DTSTART:20171105T090000
END:STANDARD
BEGIN:DAYLIGHT
TZOFFSETFROM:-0800
TZOFFSETTO:-0700
TZNAME:PDT
DTSTART:20180311T100000
END:DAYLIGHT
BEGIN:STANDARD
TZOFFSETFROM:-0700
TZOFFSETTO:-0800
TZNAME:PST
DTSTART:20181104T090000
END:STANDARD
BEGIN:DAYLIGHT
TZOFFSETFROM:-0800
TZOFFSETTO:-0700
TZNAME:PDT
DTSTART:20190310T100000
END:DAYLIGHT
BEGIN:STANDARD
TZOFFSETFROM:-0700
TZOFFSETTO:-0800
TZNAME:PST
DTSTART:20191103T090000
END:STANDARD
END:VTIMEZONE
BEGIN:VEVENT
DTSTART;TZID=America/Los_Angeles:20180810T180000
DTEND;TZID=America/Los_Angeles:20180810T210000
DTSTAMP:20260420T033052
CREATED:20180731T191421Z
LAST-MODIFIED:20180806T165532Z
UID:1261-1533924000-1533934800@mastroseriowinery.com
SUMMARY:Friday night Jazz with Jimmy Spero and Wood Fired Pizza with Ruggero!
DESCRIPTION:Join us every other Friday with Jimmy Spero under the stars with his classic jazz personal repertoire\, along with an evening\nfull of “True Italian Hospitality” featuring Premium Mastroserio Wines\, Wood Fired Pizza Ala Ruggero! \nWine Club: $15 per person for music and pizza (max. 2 people)\nGeneral Admission: $20 per person for music and pizza \nRSVP: Julie at 530-417-4321 \nWe would love to spend time with you\,\ncome join us!
URL:https://mastroseriowinery.com/event/friday-night-jazz-with-jimmy-spero-and-wood-fired-pizza-with-ruggero/
LOCATION:CA
ORGANIZER;CN="Julie":MAILTO:info@mastroseriowinery.com
END:VEVENT
END:VCALENDAR