BEGIN:VCALENDAR
VERSION:2.0
PRODID:-//Mastroserio Winery - ECPv6.15.20//NONSGML v1.0//EN
CALSCALE:GREGORIAN
METHOD:PUBLISH
X-WR-CALNAME:Mastroserio Winery
X-ORIGINAL-URL:https://mastroseriowinery.com
X-WR-CALDESC:Events for Mastroserio Winery
REFRESH-INTERVAL;VALUE=DURATION:PT1H
X-Robots-Tag:noindex
X-PUBLISHED-TTL:PT1H
BEGIN:VTIMEZONE
TZID:America/Los_Angeles
BEGIN:DAYLIGHT
TZOFFSETFROM:-0800
TZOFFSETTO:-0700
TZNAME:PDT
DTSTART:20170312T100000
END:DAYLIGHT
BEGIN:STANDARD
TZOFFSETFROM:-0700
TZOFFSETTO:-0800
TZNAME:PST
DTSTART:20171105T090000
END:STANDARD
BEGIN:DAYLIGHT
TZOFFSETFROM:-0800
TZOFFSETTO:-0700
TZNAME:PDT
DTSTART:20180311T100000
END:DAYLIGHT
BEGIN:STANDARD
TZOFFSETFROM:-0700
TZOFFSETTO:-0800
TZNAME:PST
DTSTART:20181104T090000
END:STANDARD
BEGIN:DAYLIGHT
TZOFFSETFROM:-0800
TZOFFSETTO:-0700
TZNAME:PDT
DTSTART:20190310T100000
END:DAYLIGHT
BEGIN:STANDARD
TZOFFSETFROM:-0700
TZOFFSETTO:-0800
TZNAME:PST
DTSTART:20191103T090000
END:STANDARD
END:VTIMEZONE
BEGIN:VEVENT
DTSTART;TZID=America/Los_Angeles:20180728T120000
DTEND;TZID=America/Los_Angeles:20180728T160000
DTSTAMP:20260422T031510
CREATED:20180718T010607Z
LAST-MODIFIED:20180718T010607Z
UID:1249-1532779200-1532793600@mastroseriowinery.com
SUMMARY:Celebrate Summer in the Vineyard with Ruggero and Chef Giovanni!
DESCRIPTION:Ruggero and Chef Giovanni are teaming up again to celebrate street foods of Italy.\nCome join us for Italian finger foods paired with Ruggero’s fabulous wines and true\nItalian Hospitality. We look forward to meeting you under the big oak tree in Fairplay for a lazy\nafternoon of sharing! \nRSVP required: To Giovanni at 530-391-6980 \nCost: $25 per person\n(includes 3 Italian street foods paired beautiful with Italian varietals\nand how about a bit of Saxophone!)
URL:https://mastroseriowinery.com/event/celebrate-summer-in-the-vineyard-with-ruggero-and-chef-giovanni/
LOCATION:Mastroserio Winery Fairplay\, 7351 Fairplay Rd.\, Somerset\, CA\, 95684\, United States
ORGANIZER;CN="Julie":MAILTO:info@mastroseriowinery.com
END:VEVENT
END:VCALENDAR