BEGIN:VCALENDAR
VERSION:2.0
PRODID:-//Mastroserio Winery - ECPv6.15.20//NONSGML v1.0//EN
CALSCALE:GREGORIAN
METHOD:PUBLISH
X-WR-CALNAME:Mastroserio Winery
X-ORIGINAL-URL:https://mastroseriowinery.com
X-WR-CALDESC:Events for Mastroserio Winery
REFRESH-INTERVAL;VALUE=DURATION:PT1H
X-Robots-Tag:noindex
X-PUBLISHED-TTL:PT1H
BEGIN:VTIMEZONE
TZID:America/Los_Angeles
BEGIN:DAYLIGHT
TZOFFSETFROM:-0800
TZOFFSETTO:-0700
TZNAME:PDT
DTSTART:20170312T100000
END:DAYLIGHT
BEGIN:STANDARD
TZOFFSETFROM:-0700
TZOFFSETTO:-0800
TZNAME:PST
DTSTART:20171105T090000
END:STANDARD
BEGIN:DAYLIGHT
TZOFFSETFROM:-0800
TZOFFSETTO:-0700
TZNAME:PDT
DTSTART:20180311T100000
END:DAYLIGHT
BEGIN:STANDARD
TZOFFSETFROM:-0700
TZOFFSETTO:-0800
TZNAME:PST
DTSTART:20181104T090000
END:STANDARD
BEGIN:DAYLIGHT
TZOFFSETFROM:-0800
TZOFFSETTO:-0700
TZNAME:PDT
DTSTART:20190310T100000
END:DAYLIGHT
BEGIN:STANDARD
TZOFFSETFROM:-0700
TZOFFSETTO:-0800
TZNAME:PST
DTSTART:20191103T090000
END:STANDARD
END:VTIMEZONE
BEGIN:VEVENT
DTSTART;TZID=America/Los_Angeles:20180629T180000
DTEND;TZID=America/Los_Angeles:20180629T210000
DTSTAMP:20260420T030640
CREATED:20180621T203214Z
LAST-MODIFIED:20180628T200707Z
UID:1232-1530295200-1530306000@mastroseriowinery.com
SUMMARY:Friday Night Jazz and Dinner
DESCRIPTION:Jimmy Spero will serenade you under the beautiful Black Oak Tree with his Classic Jazz repertoire and his warm sound of his Acoustic Guitar. \n$10 for music General Admission\n$ 5 for music Wine Club Members (for 2 people)\n$15 Italian Dinner \nRSVP by calling Julie @ (530) 417-4321.
URL:https://mastroseriowinery.com/event/friday-night-jazz-and-dinner/
LOCATION:CA
END:VEVENT
END:VCALENDAR