BEGIN:VCALENDAR
VERSION:2.0
PRODID:-//Mastroserio Winery - ECPv6.15.20//NONSGML v1.0//EN
CALSCALE:GREGORIAN
METHOD:PUBLISH
X-WR-CALNAME:Mastroserio Winery
X-ORIGINAL-URL:https://mastroseriowinery.com
X-WR-CALDESC:Events for Mastroserio Winery
REFRESH-INTERVAL;VALUE=DURATION:PT1H
X-Robots-Tag:noindex
X-PUBLISHED-TTL:PT1H
BEGIN:VTIMEZONE
TZID:America/Los_Angeles
BEGIN:DAYLIGHT
TZOFFSETFROM:-0800
TZOFFSETTO:-0700
TZNAME:PDT
DTSTART:20170312T100000
END:DAYLIGHT
BEGIN:STANDARD
TZOFFSETFROM:-0700
TZOFFSETTO:-0800
TZNAME:PST
DTSTART:20171105T090000
END:STANDARD
BEGIN:DAYLIGHT
TZOFFSETFROM:-0800
TZOFFSETTO:-0700
TZNAME:PDT
DTSTART:20180311T100000
END:DAYLIGHT
BEGIN:STANDARD
TZOFFSETFROM:-0700
TZOFFSETTO:-0800
TZNAME:PST
DTSTART:20181104T090000
END:STANDARD
BEGIN:DAYLIGHT
TZOFFSETFROM:-0800
TZOFFSETTO:-0700
TZNAME:PDT
DTSTART:20190310T100000
END:DAYLIGHT
BEGIN:STANDARD
TZOFFSETFROM:-0700
TZOFFSETTO:-0800
TZNAME:PST
DTSTART:20191103T090000
END:STANDARD
END:VTIMEZONE
BEGIN:VEVENT
DTSTART;TZID=America/Los_Angeles:20180623T180000
DTEND;TZID=America/Los_Angeles:20180623T210000
DTSTAMP:20260420T072152
CREATED:20180621T202541Z
LAST-MODIFIED:20180621T202548Z
UID:1230-1529776800-1529787600@mastroseriowinery.com
SUMMARY:Saturday Night Jazz And Italian Food
DESCRIPTION:Beth Duncan Quartet.\nWe are honored to announce a great Saturday Jazz Night and dinner with the amazing voice of Beth Duncan accompanied with some of the most talented musicians in Northern California\nSteve Homan\, Acoustic Guitar\nMatt Robinson\, Upright Bass\nJim Drink\, Drums.\n$15 music for General Admission\n$10 music for Wine Club Members\n$10 Italian Plate. \nRSVP: Call Julie @ (530) 417-4321
URL:https://mastroseriowinery.com/event/saturday-night-jazz-and-italian-food/
LOCATION:CA
ATTACH;FMTTYPE=image/jpeg:https://mastroseriowinery.com/wp-content/uploads/2018/04/beth-duncan.jpg
END:VEVENT
END:VCALENDAR