BEGIN:VCALENDAR
VERSION:2.0
PRODID:-//Mastroserio Winery - ECPv6.15.20//NONSGML v1.0//EN
CALSCALE:GREGORIAN
METHOD:PUBLISH
X-ORIGINAL-URL:https://mastroseriowinery.com
X-WR-CALDESC:Events for Mastroserio Winery
REFRESH-INTERVAL;VALUE=DURATION:PT1H
X-Robots-Tag:noindex
X-PUBLISHED-TTL:PT1H
BEGIN:VTIMEZONE
TZID:America/Los_Angeles
BEGIN:DAYLIGHT
TZOFFSETFROM:-0800
TZOFFSETTO:-0700
TZNAME:PDT
DTSTART:20170312T100000
END:DAYLIGHT
BEGIN:STANDARD
TZOFFSETFROM:-0700
TZOFFSETTO:-0800
TZNAME:PST
DTSTART:20171105T090000
END:STANDARD
BEGIN:DAYLIGHT
TZOFFSETFROM:-0800
TZOFFSETTO:-0700
TZNAME:PDT
DTSTART:20180311T100000
END:DAYLIGHT
BEGIN:STANDARD
TZOFFSETFROM:-0700
TZOFFSETTO:-0800
TZNAME:PST
DTSTART:20181104T090000
END:STANDARD
BEGIN:DAYLIGHT
TZOFFSETFROM:-0800
TZOFFSETTO:-0700
TZNAME:PDT
DTSTART:20190310T100000
END:DAYLIGHT
BEGIN:STANDARD
TZOFFSETFROM:-0700
TZOFFSETTO:-0800
TZNAME:PST
DTSTART:20191103T090000
END:STANDARD
END:VTIMEZONE
BEGIN:VEVENT
DTSTART;TZID=America/Los_Angeles:20180617T130000
DTEND;TZID=America/Los_Angeles:20180617T160000
DTSTAMP:20260422T031934
CREATED:20180612T022755Z
LAST-MODIFIED:20180612T024245Z
UID:1225-1529240400-1529251200@mastroseriowinery.com
SUMMARY:Father's Day - Country Sunday  with Shauna Lea Trio
DESCRIPTION:If you like Country and Classic Rock you will love the terrific voice of Shauna Lea accompanied by the virtuoso guitarist Gary Blodgett.\nWe will celebrate Father’s day by serving an exquisite bowl of Chili con Carne with Fixins! \nCome join us for a worm afternoon and a celebration of our Fathers.  \n$10 for Food and Music \nRSVP by calling Julie @ (530) 417-4321
URL:https://mastroseriowinery.com/event/fathers-day-country-sunday-with-shauna-lea-trio/
LOCATION:CA
END:VEVENT
END:VCALENDAR