BEGIN:VCALENDAR
VERSION:2.0
PRODID:-//Mastroserio Winery - ECPv6.15.20//NONSGML v1.0//EN
CALSCALE:GREGORIAN
METHOD:PUBLISH
X-ORIGINAL-URL:https://mastroseriowinery.com
X-WR-CALDESC:Events for Mastroserio Winery
REFRESH-INTERVAL;VALUE=DURATION:PT1H
X-Robots-Tag:noindex
X-PUBLISHED-TTL:PT1H
BEGIN:VTIMEZONE
TZID:America/Los_Angeles
BEGIN:DAYLIGHT
TZOFFSETFROM:-0800
TZOFFSETTO:-0700
TZNAME:PDT
DTSTART:20170312T100000
END:DAYLIGHT
BEGIN:STANDARD
TZOFFSETFROM:-0700
TZOFFSETTO:-0800
TZNAME:PST
DTSTART:20171105T090000
END:STANDARD
BEGIN:DAYLIGHT
TZOFFSETFROM:-0800
TZOFFSETTO:-0700
TZNAME:PDT
DTSTART:20180311T100000
END:DAYLIGHT
BEGIN:STANDARD
TZOFFSETFROM:-0700
TZOFFSETTO:-0800
TZNAME:PST
DTSTART:20181104T090000
END:STANDARD
BEGIN:DAYLIGHT
TZOFFSETFROM:-0800
TZOFFSETTO:-0700
TZNAME:PDT
DTSTART:20190310T100000
END:DAYLIGHT
BEGIN:STANDARD
TZOFFSETFROM:-0700
TZOFFSETTO:-0800
TZNAME:PST
DTSTART:20191103T090000
END:STANDARD
END:VTIMEZONE
BEGIN:VEVENT
DTSTART;TZID=America/Los_Angeles:20180615T180000
DTEND;TZID=America/Los_Angeles:20180615T210000
DTSTAMP:20260422T032601
CREATED:20180612T022053Z
LAST-MODIFIED:20180612T023010Z
UID:1221-1529085600-1529096400@mastroseriowinery.com
SUMMARY:Friday Night Jazz and Food with the Cocuzzi Duo
DESCRIPTION:We are excited to announce a great Friday Night Jazz and Food with the tallented Cocuzzi Duo performing Latin and Swing Jazz.\nEnjoy your Italian Night with a beautiful winery setting and a colorful sunset. \nWe will be serving Chicken Cacciatore with Polenta and Salad.\n$15 for music General Admission\n$10 for music Wine Club (for 2 people)\n$10 for food. \nRSVP by calling Julie at (530) 417-4321
URL:https://mastroseriowinery.com/event/friday-night-jazz-and-food-with-the-cocuzzi-duo/
LOCATION:Mastroserio Winery Fairplay\, 7351 Fairplay Rd.\, Somerset\, CA\, 95684\, United States
ATTACH;FMTTYPE=image/jpeg:https://mastroseriowinery.com/wp-content/uploads/2018/06/unnamed.jpg
END:VEVENT
END:VCALENDAR