BEGIN:VCALENDAR
VERSION:2.0
PRODID:-//Mastroserio Winery - ECPv6.15.20//NONSGML v1.0//EN
CALSCALE:GREGORIAN
METHOD:PUBLISH
X-WR-CALNAME:Mastroserio Winery
X-ORIGINAL-URL:https://mastroseriowinery.com
X-WR-CALDESC:Events for Mastroserio Winery
REFRESH-INTERVAL;VALUE=DURATION:PT1H
X-Robots-Tag:noindex
X-PUBLISHED-TTL:PT1H
BEGIN:VTIMEZONE
TZID:America/Los_Angeles
BEGIN:DAYLIGHT
TZOFFSETFROM:-0800
TZOFFSETTO:-0700
TZNAME:PDT
DTSTART:20170312T100000
END:DAYLIGHT
BEGIN:STANDARD
TZOFFSETFROM:-0700
TZOFFSETTO:-0800
TZNAME:PST
DTSTART:20171105T090000
END:STANDARD
BEGIN:DAYLIGHT
TZOFFSETFROM:-0800
TZOFFSETTO:-0700
TZNAME:PDT
DTSTART:20180311T100000
END:DAYLIGHT
BEGIN:STANDARD
TZOFFSETFROM:-0700
TZOFFSETTO:-0800
TZNAME:PST
DTSTART:20181104T090000
END:STANDARD
BEGIN:DAYLIGHT
TZOFFSETFROM:-0800
TZOFFSETTO:-0700
TZNAME:PDT
DTSTART:20190310T100000
END:DAYLIGHT
BEGIN:STANDARD
TZOFFSETFROM:-0700
TZOFFSETTO:-0800
TZNAME:PST
DTSTART:20191103T090000
END:STANDARD
END:VTIMEZONE
BEGIN:VEVENT
DTSTART;TZID=America/Los_Angeles:20180526T130000
DTEND;TZID=America/Los_Angeles:20180526T160000
DTSTAMP:20260422T031630
CREATED:20180518T165018Z
LAST-MODIFIED:20180518T165810Z
UID:1218-1527339600-1527350400@mastroseriowinery.com
SUMMARY:Live Music w/ Ruggero Quintet
DESCRIPTION:Come enjoy our live jam session (with none other that Ruggero Mastroserio on sax )while soaking in the vineyard views and enjoying a glass of our award winning wines.  \nWine and Food available for purchase
URL:https://mastroseriowinery.com/event/live-music-w-ruggero-quintet/
LOCATION:CA
ATTACH;FMTTYPE=image/jpeg:https://mastroseriowinery.com/wp-content/uploads/2015/03/jimmy-spero-quartet-e1522903048289.jpg
END:VEVENT
END:VCALENDAR